BEGIN:VCALENDAR
VERSION:2.0
PRODID:icalendar-ruby
CALSCALE:GREGORIAN
METHOD:PUBLISH
BEGIN:VEVENT
DTSTAMP:20260424T143054Z
UID:898-2280171@kingswaylambton.ca
DTSTART:20260524T153000Z
DTEND:20260524T180000Z
CLASS:PUBLIC
CREATED:20260423T160237
DESCRIPTION:You are warmly invited to join us as we celebrate 3 special eve
 nts on May 24th.\nThe Covenanting Service for Rev. Chris in the Sanctuary 
 at 10:00 am\nA Spring Luncheon in the Auditorium at 11:45 am\, and\nThe Ch
 ancel and Children's Choir Concert in the Sanctuary at 1:00 pm.\nThis spec
 ial gathering will be a time of music\, celebration\, and community as we 
 mark the covenanting of our new minister\, Rev. Chris. Together\, we will 
 welcome this new chapter in the life of our church with uplifting performa
 nces and fellowship.\nTickets for the Luncheon are available by using the 
 link below.\nAdults - $30.00 ~ Children (Under 12) - $10.00\nTickets are N
 OT required for the Choir Concert following the Luncheon.\nAll are welcome
 . Please invite your family and friends to share in this meaningful and ce
 lebratory occasion.\nWe look forward to celebrating with you!
LAST-MODIFIED:20260423T160237
LOCATION:
SUMMARY:Spring Luncheon & Concert
URL;VALUE=URI:https://www.kingswaylambton.ca/events/spring-luncheon-concert
 /2026-05-24
ATTACH;FILENAME=SpringConcert26.jpg;FMTTYPE=image/jpeg:https://dq5pwpg1q8ru
 0.cloudfront.net/2026/04/22/01/45/42/0329cdbb-6fc4-4592-b642-dd5ddc4775b8/
 SpringConcert26.jpg
ATTACH;FILENAME=Audio file for e-blast .m4a;FMTTYPE=audio/mp4:https://dq5pw
 pg1q8ru0.cloudfront.net/2026/04/22/01/46/53/d048f6cd-fef1-4276-a406-eae8d4
 24d1f6/Audio%20file%20for%20e-blast%20.m4a
END:VEVENT
END:VCALENDAR
